BEGIN:VCALENDAR
VERSION:2.0
PRODID:-//communityassessment.org//NONSGML kigkonsult.se iCalcreator 2.30.1
 0//
CALSCALE:GREGORIAN
METHOD:PUBLISH
UID:4a8c3991-d38c-490b-b24b-e729e89ac191
X-WR-CALDESC:
X-WR-RELCALID:7f876184ed40f9ffa6bef0923234be92
X-WR-TIMEZONE:America/New_York
BEGIN:VTIMEZONE
TZID:America/New_York
BEGIN:STANDARD
TZNAME:EST
DTSTART:20251102T020000
TZOFFSETFROM:-0400
TZOFFSETTO:-0500
RDATE:20261101T020000
RDATE:20271107T020000
END:STANDARD
BEGIN:DAYLIGHT
TZNAME:EDT
DTSTART:20260308T020000
TZOFFSETFROM:-0500
TZOFFSETTO:-0400
RDATE:20270314T020000
END:DAYLIGHT
END:VTIMEZONE
BEGIN:VEVENT
UID:85824083-e330-45e8-91bf-348ef5ef5350
DTSTAMP:20260425T124243Z
DESCRIPTION:
DTSTART;TZID=America/New_York:20260814T073000
DTEND;TZID=America/New_York:20260814T160000
LOCATION:060 Pearl Rd\, Medina\, OH 44256 US
SUMMARY:7th Annual Battle on the Fairways
END:VEVENT
END:VCALENDAR
