BEGIN:VCALENDAR
VERSION:2.0
PRODID:-//communityassessment.org//NONSGML kigkonsult.se iCalcreator 2.30.1
 0//
CALSCALE:GREGORIAN
METHOD:PUBLISH
UID:be19d421-7f9a-4719-91a7-4e949c50d98f
X-WR-CALDESC:
X-WR-RELCALID:189ead1e44dd8340cf8c690ca35c3dc7
X-WR-TIMEZONE:America/New_York
BEGIN:VTIMEZONE
TZID:America/New_York
BEGIN:STANDARD
TZNAME:EST
DTSTART:20251102T020000
TZOFFSETFROM:-0400
TZOFFSETTO:-0500
RDATE:20261101T020000
RDATE:20271107T020000
END:STANDARD
BEGIN:DAYLIGHT
TZNAME:EDT
DTSTART:20260308T020000
TZOFFSETFROM:-0500
TZOFFSETTO:-0400
RDATE:20270314T020000
END:DAYLIGHT
END:VTIMEZONE
BEGIN:VEVENT
UID:0fe095de-ad75-48b6-959c-447f4060e5bf
DTSTAMP:20260425T124522Z
DESCRIPTION:
DTSTART;TZID=America/New_York:20260821T110000
DTEND;TZID=America/New_York:20260821T150000
LOCATION:8411 Broadway Ave\, Cleveland\, OH 44105 US
SUMMARY:Slavic Village Health\, Wellness\, & Employment Fair
END:VEVENT
END:VCALENDAR
