BEGIN:VCALENDAR
VERSION:2.0
PRODID:-//communityassessment.org//NONSGML kigkonsult.se iCalcreator 2.30.1
 0//
CALSCALE:GREGORIAN
METHOD:PUBLISH
UID:4b958de0-1811-4e52-94e3-b9c0113aba0d
X-WR-CALDESC:
X-WR-RELCALID:3d9025590203eff316944b984ec0dc2f
X-WR-TIMEZONE:America/New_York
BEGIN:VTIMEZONE
TZID:America/New_York
BEGIN:STANDARD
TZNAME:EST
DTSTART:20241103T020000
TZOFFSETFROM:-0400
TZOFFSETTO:-0500
RDATE:20251102T020000
RDATE:20261101T020000
END:STANDARD
BEGIN:DAYLIGHT
TZNAME:EDT
DTSTART:20250309T020000
TZOFFSETFROM:-0500
TZOFFSETTO:-0400
RDATE:20260308T020000
END:DAYLIGHT
END:VTIMEZONE
BEGIN:VEVENT
UID:3d812bd7-4c6e-495e-a2cc-923293b61dc2
DTSTAMP:20260426T042529Z
DESCRIPTION:
DTSTART;TZID=America/New_York:20250725T090000
DTEND;TZID=America/New_York:20250725T153000
LOCATION:4141 Center Rd\, \, Avon \, OH 44011 US
SUMMARY:6th Annual Battle on the Fairways
END:VEVENT
END:VCALENDAR
