BEGIN:VCALENDAR
VERSION:2.0
PRODID:-//communityassessment.org//NONSGML kigkonsult.se iCalcreator 2.30.1
 0//
CALSCALE:GREGORIAN
METHOD:PUBLISH
UID:e788e92d-54dd-4b96-a239-29a1574f3997
X-WR-CALDESC:Registration for the resource fair is free however\, if you wo
 uld like to donate $10 to help offset the costs of renting tables\, chairs
 \, and canopies for the event\, please select the $10 Ticket option below.
  Select 1 ticket for each organization.
X-WR-RELCALID:e57c506ab94a2530cf37bbcd0761b8e3
X-WR-TIMEZONE:America/New_York
BEGIN:VTIMEZONE
TZID:America/New_York
BEGIN:STANDARD
TZNAME:EST
DTSTART:20241103T020000
TZOFFSETFROM:-0400
TZOFFSETTO:-0500
RDATE:20251102T020000
RDATE:20261101T020000
END:STANDARD
BEGIN:DAYLIGHT
TZNAME:EDT
DTSTART:20250309T020000
TZOFFSETFROM:-0500
TZOFFSETTO:-0400
RDATE:20260308T020000
END:DAYLIGHT
END:VTIMEZONE
BEGIN:VEVENT
UID:a57fcca1-1aa7-4b2c-9d14-b1545c585e00
DTSTAMP:20260426T025754Z
DESCRIPTION:Registration for the resource fair is free however\, if you wou
 ld like to donate $10 to help offset the costs of renting tables\, chairs\
 , and canopies for the event\, please select the $10 Ticket option below. 
 Select 1 ticket for each organization.
DTSTART;TZID=America/New_York:20250827T110000
DTEND;TZID=America/New_York:20250827T150000
LOCATION:8415 Broadway Ave\, Cleveland\, OH 44105 US
SUMMARY:Slavic Village Health\, Wellness\, and Employment Fair
END:VEVENT
END:VCALENDAR
