BEGIN:VCALENDAR
VERSION:2.0
PRODID:-//communityassessment.org//NONSGML kigkonsult.se iCalcreator 2.30.1
 0//
CALSCALE:GREGORIAN
METHOD:PUBLISH
UID:183aa23e-c7f4-4e36-8a09-58102a3d6ebc
X-WR-CALDESC:
X-WR-RELCALID:3d40ef7d8f574eeb7331f85789a9b841
X-WR-TIMEZONE:America/New_York
BEGIN:VTIMEZONE
TZID:America/New_York
BEGIN:STANDARD
TZNAME:EST
DTSTART:20241103T020000
TZOFFSETFROM:-0400
TZOFFSETTO:-0500
RDATE:20251102T020000
RDATE:20261101T020000
END:STANDARD
BEGIN:DAYLIGHT
TZNAME:EDT
DTSTART:20250309T020000
TZOFFSETFROM:-0500
TZOFFSETTO:-0400
RDATE:20260308T020000
RDATE:20270314T020000
END:DAYLIGHT
END:VTIMEZONE
BEGIN:VEVENT
UID:56bf267c-13d9-4391-8e02-bb04e0bba4ad
DTSTAMP:20260426T012156Z
DESCRIPTION:
DTSTART;TZID=America/New_York:20250925T160000
DTEND;TZID=America/New_York:20250925T190000
LOCATION:8415 Broadway Ave\, Cleveland\, AL 44105 US
SUMMARY:Gratitude Night
END:VEVENT
END:VCALENDAR
