BEGIN:VCALENDAR
VERSION:2.0
PRODID:-//communityassessment.org//NONSGML kigkonsult.se iCalcreator 2.30.1
 0//
CALSCALE:GREGORIAN
METHOD:PUBLISH
UID:a4da22fa-6602-4284-b502-5c8b56acb627
X-WR-CALDESC:
X-WR-RELCALID:e48184948d8ebb14b86c1fd79e86fce8
X-WR-TIMEZONE:America/New_York
BEGIN:VTIMEZONE
TZID:America/New_York
BEGIN:STANDARD
TZNAME:EST
DTSTART:20251102T020000
TZOFFSETFROM:-0400
TZOFFSETTO:-0500
RDATE:20261101T020000
RDATE:20271107T020000
END:STANDARD
BEGIN:DAYLIGHT
TZNAME:EDT
DTSTART:20260308T020000
TZOFFSETFROM:-0500
TZOFFSETTO:-0400
RDATE:20270314T020000
RDATE:20280312T020000
END:DAYLIGHT
END:VTIMEZONE
BEGIN:VEVENT
UID:d9d217f8-72d4-4e7a-868d-5899f59430ba
DTSTAMP:20260425T143501Z
DESCRIPTION:
DTSTART;TZID=America/New_York:20260924T160000
DTEND;TZID=America/New_York:20260924T190000
LOCATION:8411 Broadway Ave\, Cleveland\, OH 44105 US
SUMMARY:2026 Gratitude Night
END:VEVENT
END:VCALENDAR
